Workbook

Sheet Інструкція
A1: ІНСТРУКЦІЯ
A2: з використання аналітичного модуля
A3: «SWOT-аналіз діяльності закладу позашкільної освіти»
A5: № | B5: Кроки
A6: 1 | B6: Уважно прочитати Інструкцію.
A7: 2 | B7: Відкрити вкладку «Базова». Ознайомитися з Базовою схемою факторно-критеріальної субмоделі SWOT-аналізу діяльності закладу позашкільної освіти.
A8: 3 | B8: Відкрити вкладку «Бланк». У комірці А3 вказати назву закладу позашкільної освіти. Роздрукувати необхідну кількість бланків та роздати їх експертам для здійснення експертизи.
A9: 4 | B9: Відкрити вкладку «Програма». У колонки «Експертна оцінка» ввести дані з бланків протоколів. Роздрукувати результат аналізу (за потреби).
A10: 5 | B10: Відкрити аркуш «Таблиця». Ознайомитися з результатами SWOT-аналізу. Роздрукувати результатами SWOT-аналізу діяльності закладу позашкільної освіти.
A11: 6 | B11: Відкрити аркуш «Портрет». Ознайомитися зграфічним портретом конкурентних переваг закладу позашкільної освіти. Роздрукувати графічний портрет конкурентних переваг закладу позашкільної освіти.
A12: 7 | B12: Проаналізувати отримані результати. Прийняти необхідні управлінські рішення.

Sheet Базова
A1: Базова схема
C2: факторно-критеріальної субмоделі
A3: SWOT-аналізу діяльності закладу позашкільної освіти
A5: Фактори (Ф) | B5: Ваго-мість (m) | C5: Критерії (К) | D5: Ваго- мість (v) | E5: Коеф. відпо-відості (K)
A6: 1. Система управління закладом | B6: m1 = 0,21 | C6: 1. Відповідність статуту закладу його місії та візії | D6: v1=0,1 | E6: K1=
C7: 2. Наявність дієвого плану роботи. Охоплення плануванням усіх напрямів роботи закладу | D7: v2=0,14 | E7: K2=
A8: Ф1= m1(v1* k1+ +v2*k2+v3*k3+ +v4*k4+v5*k5+ +v6*k6+v7*k7+ +v8*k8+v9*k9) | C8: 3. Наявність усіх органів управління закладом | D8: v3=0,13 | E8: K3=
C9: 4. Оптимальність організаційної структури закладу | D9: v4=0,13 | E9: K4=
C10: 5. Координація взаємодії всіх підрозділів закладу | D10: v5=0,14 | E10: K5=
C11: 6. Результативність роботи загальних зборів (конференції) закладу | D11: v6=0,1 | E11: К6=
C12: 7. Результативність роботи педагогічної ради, введення в дію її рішень | D12: v7=0,13 | E12: K7=
C13: 8. Системність інформаційного забезпечення управління закладом | D13: v8=0,08 | E13: K8=
C14: 9 . Робота з партнерами | D14: v9=0,05 | E14: K9=
A15: 2. Організація освітнього процесу | B15: m2 = 0,25 | C15: 10. Комплектування гуртків, груп та інших творчих об'єднань | D15: v10=0,06 | E15: K10=
A16: Ф2= m2(v10*k10+ +v11*k11+v12*k12+ +v13*k13+v14*k14+ +v15*k15+v16*k16+ +v17*k17+v18*k18+ +v19*k19+v20*k20+ +v21*k21+v22*k22+ +v23*k23+v24*k24+ +v25*k25+v26*k26) | C16: 11. Динаміка контингенту вихованців | D16: v11=0,04 | E16: K11=
C17: 12. Організація гурткової роботи | D17: v12=0,11 | E17: K12=
C18: 13. Організація індивідуальної роботи | D18: v13=0,1 | E18: K13=
C19: 14. Організація дистанційної та змішаної форм освіти засобами | D19: v14=0,05 | E19: K14=
C20: 15. Організація інклюзивної освіти (за наявності таких дітей у закладі) | D20: v15=0,04 | E20: K15=
C21: 16. Відповідність освітньої програми меті, завданням діяльності закладу | D21: v16=0,1 | E21: K16=
C22: 17. Наявність необхідних навчальних програм, їх відповідність навчальному плану | D22: v17=0,1 | E22: K17=
C23: 18. Спрямованість освітнього процесу на підготовку до майбутньої професії (профілізація) | D23: v18=0,08 | E23: K18=
C24: 19. Використання інформаційних цифрових технологій в освітньому процесі | D24: v19=0,04 | E24: K19=
C25: 20. Організація дослідницько-експериментальної діяльності вихованців за напрямом позашкільної освіти | D25: v20=0,04 | E25: K20=
C26: 21. Організація участі дітей в організаційно-масових заходах різних рівнів | D26: v21=0,06 | E26: K21=
C27: 22. Ефективність участі дітей в організаційно-масових заходах різних рівнів | D27: v22=0,04 | E27: K22=
C28: 23. Організація культурно-дозвіллєвої діяльності вихованців | D28: v23=0,04 | E28: K23=
... C31: 26. Міжнародна співпраця | D31: v26=0,02 | E31: K26=
A32: 3. Робота з педагогічними кадрами | B32: m3 = 0,14 | C32: 27. Забезпеченість закладу педагогічними працівниками | D32: v27=0,13 | E32: K27=
C33: 28. Оптимальність розподілу та розміщення педагогічних кадрів, розподілу педагогічного навантаження | D33: v28=0,1 | E33: K28=
A34: Ф3= m3(v27* k27+ +v28*k28+v29*k29+ +v30*k30+v31*k31+ +v32*k32+v33*k33+ +v34*k34+v35*k35++v36*k36) | C34: 29. Стабільності складу педагогічного колективу | D34: v29=0,1 | E34: K29=
C35: 30. Робота з молодими спеціалістами | D35: v30=0,6 | E35: K30=
C36: 31. Створення системи методичного супроводу освітнього процесу | D36: v31=0,17 | E36: K31=
C37: 32. Створення сприятливого мотиваційного середовища в закладі | D37: v32=0,1 | E37: K32=
C38: 33. Готовність педколективу до інноваційної діяльності | D38: v33=0,09 | E38: K33=
C39: 34. Оптимальність способів розв’язання конфліктів у колективі | D39: v34=0,06 | E39: K34=
C40: 35. Командна взаємодія педагогів з дітьми | D40: v35=0,09 | E40: K35=
C41: 36. Забезпечення безперервної освіти педагогічних кадрів | D41: v36=0,1 | E41: K36=
A42: 4. Розвиток матеріально-технічної бази закладу, раціональність її використання | B42: m4 = 0,13 | C42: 37. Наявність навчальних кабінетів, майстерень, лабораторій, бібліотеки, актового залу, інших приміщень, необхідних для здійснення освітнього процесу | D42: v37=0,22 | E42: K37=
C43: 38. Відповідність навчальних кабінетів, майстерень, лабораторій, бібліотеки, актового залу, інших приміщень нормативним вимогам | D43: v38=0,22 | E43: K38=
...

Sheet Бланк
A1: Протокол
A2: SWOT-аналізу діяльності закладу позашкільної освіти
A3: назва ЗПО
A6: № | B6: Критерій | C6: Коефіцієнт | D6: Експертна оцінка
A7: І. | B7: Система управління ЗПО | C7: 0.21
A8: 1 | B8: Відповідність статуту закладу його місії та візії | C8: 0.1
A9: 2 | B9: Наявність дієвого плану роботи. Охоплення плануванням усіх напрямів роботи закладу | C9: 0.14
A10: 3 | B10: Наявність усіх органів управління закладом | C10: 0.13
A11: 4 | B11: Оптимальність організаційної структури закладу | C11: 0.13
A12: 5 | B12: Координація взаємодії всіх підрозділів закладу | C12: 0.14
A13: 6 | B13: Результативність роботи загальних зборів (конференції) закладу | C13: 0.1
A14: 7 | B14: Результативність роботи педагогічної ради, введення в дію її рішень | C14: 0.13
A15: 8 | B15: Системність інформаційного забезпечення управління закладом | C15: 0.08
A16: 9 | B16: Робота з партнерами | C16: 0.05
A17: ІІ. | B17: Організація освітнього процесу в ЗПО | C17: 0.25
A18: 10 | B18: Комплектування гуртків, груп та інших творчих об'єднань | C18: 0.06
A19: 11 | B19: Динаміка контингенту вихованців | C19: 0.04
A20: 12 | B20: Організація гурткової роботи | C20: 0.11
A21: 13 | B21: Організація індивідуальної роботи | C21: 0.1
A22: 14 | B22: Організація дистанційної та змішаної форм освіти засобами | C22: 0.05
A23: 15 | B23: Організація інклюзивної освіти (за наявності таких дітей у закладі) | C23: 0.04
A24: 16 | B24: Відповідність освітньої програми меті, завданням діяльності закладу | C24: 0.1
A25: 17 | B25: Наявність необхідних навчальних програм, їх відповідність навчальному плану | C25: 0.1
A26: 18 | B26: Спрямованість освітнього процесу на підготовку до майбутньої професії (профілізація) | C26: 0.08
A27: 19 | B27: Використання інформаційних цифрових технологій в освітньому процесі | C27: 0.04
A28: 20 | B28: Організація дослідницько-експериментальної діяльності вихованців за напрямом позашкільної освіти | C28: 0.04
A29: 21 | B29: Організація участі дітей в організаційно-масових заходах різних рівнів | C29: 0.06
... A34: 26 | B34: Міжнародна співпраця | C34: 0.02
A35: ІІІ. | B35: Робота з педагогічними кадрами | C35: 0.14
A36: 27 | B36: Забезпеченість закладу педагогічними працівниками | C36: 0.13
A37: 28 | B37: Оптимальність розподілу та розміщення педагогічних кадрів, розподілу педагогічного навантаження | C37: 0.1
A38: 29 | B38: Стабільності складу педагогічного колективу | C38: 0.1
A39: 30 | B39: Робота з молодими спеціалістами | C39: 0.06
A40: 31 | B40: Створення системи методичного супроводу освітнього процесу | C40: 0.17
A41: 32 | B41: Створення сприятливого мотиваційного середовища в закладі | C41: 0.1
A42: 33 | B42: Готовність педколективу до інноваційної діяльності | C42: 0.09
A43: 34 | B43: Оптимальність способів розв’язання конфліктів у колективі | C43: 0.06
A44: 35 | B44: Командна взаємодія педагогів з дітьми | C44: 0.09
A45: 36 | B45: Забезпечення безперервної освіти педагогічних кадрів | C45: 0.1
A46: IV. | B46: Розвиток матеріально-технічної бази закладу, раціональність її використання | C46: 0.13
...

Sheet Програма
A1: Результат
A2: SWOT-аналізу діяльності закладу позашкільної освіти
A4: =IF(Бланк!A3="","",Бланк!A3) -> назва ЗПО | M4: 4
A5: В и с н о в о к: | M5: 3
A6: Підсумкова кількість балів: | C6: =I13+I23+I41+I52+I59+I65+I69 -> 0.76186667 | M6: 2
A7: Рівень конкурентних переваг закладу: | C7: =IF(C6<0.26,"К р и т и ч н и й",IF(C6<0.51,"Н и з ь к и й",IF(C6<0.76,"С е р е д н і й",IF(C6<0.88,"В и с о к и й","О п т и м а л ь н и й")))) -> В и с о к и й | M7: 1
M8: 0
A9: № | B9: Критерій | D9: Коефіцієнт | E9: Експертна оцінка | I9: Коефі-цієнт відпо-відності
E10: експерти | H10: μ
E11: 1 | F11: 2 | G11: 3
A13: І. | B13: =Бланк!B7 -> Система управління ЗПО | D13: 0.21 | I13: =L13*D13 -> 0.174125 | L13: =SUM(I14:I22) -> 0.82916667 | M13: 4 | N13: 3 | O13: 2 | P13: 1 | Q13: 0 | S13: 4 | T13: 3 | U13: 2 | V13: 1 | W13: 0 | AV13: 4 | AW13: 3 | AX13: 2 | AY13: 1 | AZ13: 0 | BB13: 4 | BC13: 3 | BD13: 2 | BE13: 1 | BF13: 0 | BH13: 4 | BI13: 3 | BJ13: 2 | BK13: 1 | BL13: 0
A14: 1 | B14: =Бланк!B8 -> Відповідність статуту закладу його місії та візії | D14: =Бланк!C8 -> 0.1 | E14: 4 | F14: 4 | G14: 4 | H14: =IF(E14="","",AVERAGE(E14:G14)) -> 4 | I14: =IF(E14="","",H14*D14/4) -> 0.1 | J14: =H14 -> 4 | K14: =AVERAGE(H14:H22) -> 3.3333333 | L14: 1 | M14: =IF(H14>3.5,AT14,"") -> Статут. | N14: =IF(H14>3.5,"",IF(H14>2.5,AT14,IF(H14<2.5,"",""))) | P14: =IF(H14>1.5,"",IF(H14>0.5,AT14,"")) | Q14: =IF(H14<0.5,AT14,"") | S14: =IF(M14="","","К1 ") -> К1 | T14: =IF(N14="","","К1 ") | U14: =IF(O14="","","К1 ") | V14: =IF(P14="","","К1 ") | W14: =IF(Q14="","","К1 ") | Y14: =CONCATENATE(S14,S15,S16,S17,S18 ) -> К1 К3 | Z14: =CONCATENATE(T14,T15,T16,T17,T18 ) -> К2 К4 К5 | AA14: =CONCATENATE(U14,U15,U16,U17,U18 ) | AB14: =CONCATENATE(V14,V15,V16,V17,V18 ) | AC14: =CONCATENATE(W14,W15,W16,W17,W18 ) | AD14: =CONCATENATE(Y14,Y15) -> К1 К3 | AE14: =CONCATENATE(Z14,Z15) -> К2 К4 К5 К6 К7 К8 К9 | AF14: =CONCATENATE(AA14,AA15) | AG14: =CONCATENATE(AB14,AB15) | AH14: =CONCATENATE(AC14,AC15) | AI14: І | AJ14: =CONCATENATE(AD14,AD24,AD42,AD53,AD60) -> К1 К3 К16 К17 К22 | AK14: =CONCATENATE(AE14,AE24,AE42,AE53,AE60) -> К2 К4 К5 К6 К7 К8 К9 К10 К11 К12 К13 К14 К15 К18 К19 К21 К23 К25 К27 К28 К29 К30 К31 К32 К33 К35 К36 К37 К38 К40 К44 К47 | AL14: =CONCATENATE(AF14,AF24,AF42,AF53,AF60) | AM14: =CONCATENATE(AG14,AG24,AG42,AG53,AG60) -> К24 К45 К46 | AN14: =CONCATENATE(AH14,AH24,AH42,AH53,AH60) | AO14: =CONCATENATE(AJ14,AJ15) -> К1 К3 К16 К17 К22 К48 К49 К50 К54 | AP14: =CONCATENATE(AK14,AK15) -> К2 К4 К5 К6 К7 К8 К9 К10 К11 К12 К13 К14 К15 К18 К19 К21 К23 К25 К27 К28 К29 К30 К31 К32 К33 К35 К36 К37 К38 К40 К44 К47 К51 К52 К53 К55 | AQ14: =CONCATENATE(AL14,AL15) | AR14: =CONCATENATE(AM14,AM15) -> К24 К45 К46 | AS14: =CONCATENATE(AN14,AN15) | AT14: Статут. | AU14: 1 | AV14: =CONCATENATE(M14,M15,M16,M17,M18) -> Статут. Органи управління. | AW14: =CONCATENATE(N14,N15,N16,N17,N18) -> План роботи. Структура ЗПО. Взаємодія підрозділів. | AX14: =CONCATENATE(O14,O15,O16,O17,O18) | AY14: =CONCATENATE(P14,P15,P16,P17,P18) | AZ14: =CONCATENATE(Q14,Q15,Q16,Q17,Q18) | BB14: =CONCATENATE(AV14,AV15,AV16,AV17,AV18) -> Статут. Органи управління. Освітня програма. Навчальні програми. Результативність участі в заходах. | BC14: =CONCATENATE(AW14,AW15,AW16,AW17,AW18) -> План роботи. Структура ЗПО. Взаємодія підрозділів. Загальні збори. Педрада. Інформаційне забезпечення. Роботв зі стейкхолдерами. Комплектування гуртків. Динаміка контингенту. Гурткова робота. Індивідуальна робота. Дистанційна освіта. Інклюзія. Профілізація. Цифрові технології. Організація участі в заходах. Культурне дозвілля. Соціально-психологічний клімат. | BD14: =CONCATENATE(AX14,AX15,AX16,AX17,AX18) | BE14: =CONCATENATE(AY14,AY15,AY16,AY17,AY18) -> Учнівське самоврядування. | BF14: =CONCATENATE(AZ14,AZ15,AZ16,AZ17,AZ18) | BH14: =CONCATENATE(BB14,BB15,BB16) -> Статут. Органи управління. Освітня програма. Навчальні програми. Результативність участі в заходах. Режим роботи. Техніка безпеки. Санітарія. Репутація ЗПО. | BI14: =CONCATENATE(BC14,BC15,BC16) -> План роботи. Структура ЗПО. Взаємодія підрозділів. Загальні збори. Педрада. Інформаційне забезпечення. Роботв зі стейкхолдерами. Комплектування гуртків. Динаміка контингенту. Гурткова робота. Індивідуальна робота. Дистанційна освіта. Інклюзія. Профілізація. Цифрові технології. Організація участі в заходах. Культурне дозвілля. Соціально-психологічний клімат. Забезпеченість кадрами. Розподіл педкадрів. Стабільність педскладу. Робота з молодими спеціалістами. Методичний супровід. Мотиваційне середовище. Готовність до інновацій. Взаємодія з дітьми. Безперервна освіта педкадрів. Необхідні приміщення. Відповідність приміщень. Використання приміщень. Взаємодія з закладами освіти. Співпраця з ГО, БФ. Інфраструктурні умови. Інформаційна відкритість. Вебсайт. Естетичність ЗПО. | BJ14: =CONCATENATE(BD14,BD15,BD16) | BK14: =CONCATENATE(BE14,BE15,BE16) -> Учнівське самоврядування. Взаємодія з соцслужбами. Робота з дітьми соцкатегорій. | BL14: =CONCATENATE(BF14,BF15,BF16)
A15: 2 | B15: =Бланк!B9 -> Наявність дієвого плану роботи. Охоплення плануванням усіх напрямів роботи закладу | D15: =Бланк!C9 -> 0.14 | E15: 3 | F15: 4 | G15: 3 | H15: =IF(E15="","",AVERAGE(E15:G15)) -> 3.3333333 | I15: =IF(E15="","",H15*D15/4) -> 0.11666667 | J15: =H15 -> 3.3333333 | L15: 2 | M15: =IF(H15>3.5,AT15,"") | N15: =IF(H15>3.5,"",IF(H15>2.5,AT15,IF(H15<2.5,"",""))) -> План роботи. | P15: =IF(H15>1.5,"",IF(H15>0.5,AT15,"")) | Q15: =IF(H15<0.5,AT15,"") | S15: =IF(M15="","","К2 ") | T15: =IF(N15="","","К2 ") -> К2 | U15: =IF(O15="","","К2 ") | V15: =IF(P15="","","К2 ") | W15: =IF(Q15="","","К2 ") | Y15: =CONCATENATE(S19,S20,S21,S22) | Z15: =CONCATENATE(T19,T20,T21,T22) -> К6 К7 К8 К9 | AA15: =CONCATENATE(U19,U20,U21,U22) | AB15: =CONCATENATE(V19,V20,V21,V22) | AC15: =CONCATENATE(W19,W20,W21,W22) | AJ15: =CONCATENATE(AD66,AD70) -> К48 К49 К50 К54 | AK15: =CONCATENATE(AE66,AE70) -> К51 К52 К53 К55 | AL15: =CONCATENATE(AF66,AF70) | AM15: =CONCATENATE(AG66,AG70) | AN15: =CONCATENATE(AH66,AH70) | AT15: План роботи. | AU15: 2 | AV15: =CONCATENATE(M19,M20,M21,M22,M24) | AW15: =CONCATENATE(N19,N20,N21,N22,N24) -> Загальні збори. Педрада. Інформаційне забезпечення. Роботв зі стейкхолдерами. Комплектування гуртків. | AX15: =CONCATENATE(O19,O20,O21,O22,O24) | AY15: =CONCATENATE(P19,P20,P21,P22,P24) | AZ15: =CONCATENATE(Q19,Q20,Q21,Q22,Q24) | BB15: =CONCATENATE(AV19,AV20,AV21,AV22) | BC15: =CONCATENATE(AW19,AW20,AW21,AW22) -> Забезпеченість кадрами. Розподіл педкадрів. Стабільність педскладу. Робота з молодими спеціалістами. Методичний супровід. Мотиваційне середовище. Готовність до інновацій. Взаємодія з дітьми. Безперервна освіта педкадрів. Необхідні приміщення. Відповідність приміщень. Використання приміщень. Взаємодія з закладами освіти. | BD15: =CONCATENATE(AX19,AX20,AX21,AX22) | BE15: =CONCATENATE(AY19,AY20,AY21,AY22) -> Взаємодія з соцслужбами. | BF15: =CONCATENATE(AZ19,AZ20,AZ21,AZ22)
A16: 3 | B16: =Бланк!B10 -> Наявність усіх органів управління закладом | D16: =Бланк!C10 -> 0.13 | E16: 3 | F16: 4 | G16: 4 | H16: =IF(E16="","",AVERAGE(E16:G16)) -> 3.6666667 | I16: =IF(E16="","",H16*D16/4) -> 0.11916667 | J16: =H16 -> 3.6666667 | L16: 3 | M16: =IF(H16>3.5,AT16,"") -> Органи управління. | N16: =IF(H16>3.5,"",IF(H16>2.5,AT16,IF(H16<2.5,"",""))) | P16: =IF(H16>1.5,"",IF(H16>0.5,AT16,"")) | Q16: =IF(H16<0.5,AT16,"") | S16: =IF(M16="","","К3 ") -> К3 | T16: =IF(N16="","","К3 ") | U16: =IF(O16="","","К3 ") | V16: =IF(P16="","","К3 ") | W16: =IF(Q16="","","К3 ") | AT16: Органи управління. | AU16: 3 | AV16: =CONCATENATE(M25,M26,M27,M28,M29) | AW16: =CONCATENATE(N25,N26,N27,N28,N29) -> Динаміка контингенту. Гурткова робота. Індивідуальна робота. Дистанційна освіта. Інклюзія. | AX16: =CONCATENATE(O25,O26,O27,O28,O29) | AY16: =CONCATENATE(P25,P26,P27,P28,P29) | AZ16: =CONCATENATE(Q25,Q26,Q27,Q28,Q29) | BB16: =CONCATENATE(AV23,AV24) -> Режим роботи. Техніка безпеки. Санітарія. Репутація ЗПО. | BC16: =CONCATENATE(AW23,AW24) -> Співпраця з ГО, БФ. Інфраструктурні умови. Інформаційна відкритість. Вебсайт. Естетичність ЗПО. | BD16: =CONCATENATE(AX23,AX24) | BE16: =CONCATENATE(AY23,AY24) -> Робота з дітьми соцкатегорій. | BF16: =CONCATENATE(AZ23,AZ24)
A17: 4 | B17: =Бланк!B11 -> Оптимальність організаційної структури закладу | D17: =Бланк!C11 -> 0.13 | E17: 3 | F17: 4 | G17: 3 | H17: =IF(E17="","",AVERAGE(E17:G17)) -> 3.3333333 | I17: =IF(E17="","",H17*D17/4) -> 0.10833333 | J17: =H17 -> 3.3333333 | L17: 4 | M17: =IF(H17>3.5,AT17,"") | N17: =IF(H17>3.5,"",IF(H17>2.5,AT17,IF(H17<2.5,"",""))) -> Структура ЗПО. | P17: =IF(H17>1.5,"",IF(H17>0.5,AT17,"")) | Q17: =IF(H17<0.5,AT17,"") | S17: =IF(M17="","","К4 ") | T17: =IF(N17="","","К4 ") -> К4 | U17: =IF(O17="","","К4 ") | V17: =IF(P17="","","К4 ") | W17: =IF(Q17="","","К4 ") | AT17: Структура ЗПО. | AU17: 4 | AV17: =CONCATENATE(M30,M31,M32,M33,M34) -> Освітня програма. Навчальні програми. | AW17: =CONCATENATE(N30,N31,N32,N33,N34) -> Профілізація. Цифрові технології. | AX17: =CONCATENATE(O30,O31,O32,O33,O34) | AY17: =CONCATENATE(P30,P31,P32,P33,P34) | AZ17: =CONCATENATE(Q30,Q31,Q32,Q33,Q34)
A18: 5 | B18: =Бланк!B12 -> Координація взаємодії всіх підрозділів закладу | D18: =Бланк!C12 -> 0.14 | E18: 2 | F18: 3 | G18: 3 | H18: =IF(E18="","",AVERAGE(E18:G18)) -> 2.6666667 | I18: =IF(E18="","",H18*D18/4) -> 0.093333333 | J18: =H18 -> 2.6666667 | L18: 5 | M18: =IF(H18>3.5,AT18,"") | N18: =IF(H18>3.5,"",IF(H18>2.5,AT18,IF(H18<2.5,"",""))) -> Взаємодія підрозділів. | P18: =IF(H18>1.5,"",IF(H18>0.5,AT18,"")) | Q18: =IF(H18<0.5,AT18,"") | S18: =IF(M18="","","К5 ") | T18: =IF(N18="","","К5 ") -> К5 | U18: =IF(O18="","","К5 ") | V18: =IF(P18="","","К5 ") | W18: =IF(Q18="","","К5 ") | AT18: Взаємодія підрозділів. | AU18: 5 | AV18: =CONCATENATE(M35,M36,M37,M38,M39) -> Результативність участі в заходах. | AW18: =CONCATENATE(N35,N36,N37,N38,N39) -> Організація участі в заходах. Культурне дозвілля. Соціально-психологічний клімат. | AX18: =CONCATENATE(O35,O36,O37,O38,O39) | AY18: =CONCATENATE(P35,P36,P37,P38,P39) -> Учнівське самоврядування. | AZ18: =CONCATENATE(Q35,Q36,Q37,Q38,Q39)
A19: 6 | B19: =Бланк!B13 -> Результативність роботи загальних зборів (конференції) закладу | D19: =Бланк!C13 -> 0.1 | E19: 3 | F19: 4 | G19: 2 | H19: =IF(E19="","",AVERAGE(E19:G19)) -> 3 | I19: =IF(E19="","",H19*D19/4) -> 0.075 | J19: =H19 -> 3 | L19: 6 | M19: =IF(H19>3.5,AT19,"") | N19: =IF(H19>3.5,"",IF(H19>2.5,AT19,IF(H19<2.5,"",""))) -> Загальні збори. | P19: =IF(H19>1.5,"",IF(H19>0.5,AT19,"")) | Q19: =IF(H19<0.5,AT19,"") | S19: =IF(M19="","","К6 ") | T19: =IF(N19="","","К6 ") -> К6 | U19: =IF(O19="","","К6 ") | V19: =IF(P19="","","К6 ") | W19: =IF(Q19="","","К6 ") | AT19: Загальні збори. | AU19: 6 | AV19: =CONCATENATE(M40,M42,M43,M44,M45) | AW19: =CONCATENATE(N40,N42,N43,N44,N45) -> Забезпеченість кадрами. Розподіл педкадрів. Стабільність педскладу. Робота з молодими спеціалістами. | AX19: =CONCATENATE(O40,O42,O43,O44,O45) | AY19: =CONCATENATE(P40,P42,P43,P44,P45) | AZ19: =CONCATENATE(Q40,Q42,Q43,Q44,Q45)
A20: 7 | B20: =Бланк!B14 -> Результативність роботи педагогічної ради, введення в дію її рішень | D20: =Бланк!C14 -> 0.13 | E20: 3 | F20: 4 | G20: 3 | H20: =IF(E20="","",AVERAGE(E20:G20)) -> 3.3333333 | I20: =IF(E20="","",H20*D20/4) -> 0.10833333 | J20: =H20 -> 3.3333333 | L20: 7 | M20: =IF(H20>3.5,AT20,"") | N20: =IF(H20>3.5,"",IF(H20>2.5,AT20,IF(H20<2.5,"",""))) -> Педрада. | P20: =IF(H20>1.5,"",IF(H20>0.5,AT20,"")) | Q20: =IF(H20<0.5,AT20,"") | S20: =IF(M20="","","К7 ") | T20: =IF(N20="","","К7 ") -> К7 | U20: =IF(O20="","","К7 ") | V20: =IF(P20="","","К7 ") | W20: =IF(Q20="","","К7 ") | AT20: Педрада. | AU20: 7 | AV20: =CONCATENATE(M46,M47,M48,M49,M50) | AW20: =CONCATENATE(N46,N47,N48,N49,N50) -> Методичний супровід. Мотиваційне середовище. Готовність до інновацій. Взаємодія з дітьми. | AX20: =CONCATENATE(O46,O47,O48,O49,O50) | AY20: =CONCATENATE(P46,P47,P48,P49,P50) | AZ20: =CONCATENATE(Q46,Q47,Q48,Q49,Q50)
A21: 8 | B21: =Бланк!B15 -> Системність інформаційного забезпечення управління закладом | D21: =Бланк!C15 -> 0.08 | E21: 3 | F21: 4 | G21: 3 | H21: =IF(E21="","",AVERAGE(E21:G21)) -> 3.3333333 | I21: =IF(E21="","",H21*D21/4) -> 0.066666667 | J21: =H21 -> 3.3333333 | L21: 8 | M21: =IF(H21>3.5,AT21,"") | N21: =IF(H21>3.5,"",IF(H21>2.5,AT21,IF(H21<2.5,"",""))) -> Інформаційне забезпечення. | P21: =IF(H21>1.5,"",IF(H21>0.5,AT21,"")) | Q21: =IF(H21<0.5,AT21,"") | S21: =IF(M21="","","К8 ") | T21: =IF(N21="","","К8 ") -> К8 | U21: =IF(O21="","","К8 ") | V21: =IF(P21="","","К8 ") | W21: =IF(Q21="","","К8 ") | AT21: Інформаційне забезпечення. | AU21: 8 | AV21: =CONCATENATE(M51,M53,M54,M55,M56) | AW21: =CONCATENATE(N51,N53,N54,N55,N56) -> Безперервна освіта педкадрів. Необхідні приміщення. Відповідність приміщень. Використання приміщень. | AX21: =CONCATENATE(O51,O53,O54,O55,O56) | AY21: =CONCATENATE(P51,P53,P54,P55,P56) | AZ21: =CONCATENATE(Q51,Q53,Q54,Q55,Q56)
A22: 9 | B22: =Бланк!B16 -> Робота з партнерами | D22: =Бланк!C16 -> 0.05 | E22: 2 | F22: 4 | G22: 4 | H22: =IF(E22="","",AVERAGE(E22:G22)) -> 3.3333333 | I22: =IF(E22="","",H22*D22/4) -> 0.041666667 | L22: 9 | M22: =IF(H22>3.5,AT22,"") | N22: =IF(H22>3.5,"",IF(H22>2.5,AT22,IF(H22<2.5,"",""))) -> Роботв зі стейкхолдерами. | P22: =IF(H22>1.5,"",IF(H22>0.5,AT22,"")) | Q22: =IF(H22<0.5,AT22,"") | S22: =IF(M22="","","К9 ") | T22: =IF(N22="","","К9 ") -> К9 | U22: =IF(O22="","","К9 ") | V22: =IF(P22="","","К9 ") | W22: =IF(Q22="","","К9 ") | AT22: Роботв зі стейкхолдерами. | AU22: 9 | AV22: =CONCATENATE(M57,M58,M60,M61,M62) | AW22: =CONCATENATE(N57,N58,N60,N61,N62) -> Взаємодія з закладами освіти. | AX22: =CONCATENATE(O57,O58,O60,O61,O62) | AY22: =CONCATENATE(P57,P58,P60,P61,P62) -> Взаємодія з соцслужбами. | AZ22: =CONCATENATE(Q57,Q58,Q60,Q61,Q62)
A23: ІІ. | B23: =Бланк!B17 -> Організація освітнього процесу в ЗПО | D23: 0.25 | I23: =L23*D23 -> 0.199375 | K23: =AVERAGE(H24:H40) -> 3.0392157 | L23: =SUM(I24:I40) -> 0.7975 | AU23: 10 | AV23: =CONCATENATE(M63,M64,M66,M67,M68) -> Режим роботи. Техніка безпеки. Санітарія. | AW23: =CONCATENATE(N63,N64,N66,N67,N68) -> Співпраця з ГО, БФ. | AX23: =CONCATENATE(O63,O64,O66,O67,O68) | AY23: =CONCATENATE(P63,P64,P66,P67,P68) -> Робота з дітьми соцкатегорій. | AZ23: =CONCATENATE(Q63,Q64,Q66,Q67,Q68)
A24: 10 | B24: =Бланк!B18 -> Комплектування гуртків, груп та інших творчих об'єднань | D24: =Бланк!C18 -> 0.06 | E24: 3 | F24: 4 | G24: 3 | H24: =IF(E24="","",AVERAGE(E24:G24)) -> 3.3333333 | I24: =IF(E24="","",H24*D24/4) -> 0.05 | L24: 10 | M24: =IF(H24>3.5,AT24,"") | N24: =IF(H24>3.5,"",IF(H24>2.5,AT24,IF(H24<2.5,"",""))) -> Комплектування гуртків. | P24: =IF(H24>1.5,"",IF(H24>0.5,AT24,"")) | Q24: =IF(H24<0.5,AT24,"") | S24: =IF(M24="","","К10 ") | T24: =IF(N24="","","К10 ") -> К10 | U24: =IF(O24="","","К10 ") | V24: =IF(P24="","","К10 ") | W24: =IF(Q24="","","К10 ") | Y24: =CONCATENATE(S24,S25,S26,S27,S28) | Z24: =CONCATENATE(T24,T25,T26,T27,T28) -> К10 К11 К12 К13 К14 | AA24: =CONCATENATE(U24,U25,U26,U27,U28) | AB24: =CONCATENATE(V24,V25,V26,V27,V28) | AC24: =CONCATENATE(W24,W25,W26,W27,W28) | AD24: =CONCATENATE(Y24,Y25,Y26,Y27) -> К16 К17 К22 | AE24: =CONCATENATE(Z24,Z25,Z26,Z27) -> К10 К11 К12 К13 К14 К15 К18 К19 К21 К23 К25 | AF24: =CONCATENATE(AA24,AA25,AA26,AA27) | AG24: =CONCATENATE(AB24,AB25,AB26,AB27) -> К24 | AH24: =CONCATENATE(AC24,AC25,AC26,AC27) | AI24: II | AT24: Комплектування гуртків. | AU24: 11 | AV24: =CONCATENATE(M70,M71,M72,M73,M74) -> Репутація ЗПО. | AW24: =CONCATENATE(N70,N71,N72,N73,N74) -> Інфраструктурні умови. Інформаційна відкритість. Вебсайт. Естетичність ЗПО. | AX24: =CONCATENATE(O70,O71,O72,O73,O74) | AY24: =CONCATENATE(P70,P71,P72,P73,P74) | AZ24: =CONCATENATE(Q70,Q71,Q72,Q73,Q74)
A25: 11 | B25: =Бланк!B19 -> Динаміка контингенту вихованців | D25: =Бланк!C19 -> 0.04 | E25: 3 | F25: 3 | G25: 4 | H25: =IF(E25="","",AVERAGE(E25:G25)) -> 3.3333333 | I25: =IF(E25="","",H25*D25/4) -> 0.033333333 | L25: 11 | M25: =IF(H25>3.5,AT25,"") | N25: =IF(H25>3.5,"",IF(H25>2.5,AT25,IF(H25<2.5,"",""))) -> Динаміка контингенту. | P25: =IF(H25>1.5,"",IF(H25>0.5,AT25,"")) | Q25: =IF(H25<0.5,AT25,"") | S25: =IF(M25="","","К11 ") | T25: =IF(N25="","","К11 ") -> К11 | U25: =IF(O25="","","К11 ") | V25: =IF(P25="","","К11 ") | W25: =IF(Q25="","","К11 ") | Y25: =CONCATENATE(S29,S30,S31,S32,S33) -> К16 К17 | Z25: =CONCATENATE(T29,T30,T31,T32,T33) -> К15 К18 К19 | AA25: =CONCATENATE(U29,U30,U31,U32,U33) | AB25: =CONCATENATE(V29,V30,V31,V32,V33) | AC25: =CONCATENATE(W29,W30,W31,W32,W33) | AT25: Динаміка контингенту.
A26: 12 | B26: =Бланк!B20 -> Організація гурткової роботи | D26: =Бланк!C20 -> 0.11 | E26: 3 | F26: 3 | G26: 4 | H26: =IF(E26="","",AVERAGE(E26:G26)) -> 3.3333333 | I26: =IF(E26="","",H26*D26/4) -> 0.091666667 | L26: 12 | M26: =IF(H26>3.5,AT26,"") | N26: =IF(H26>3.5,"",IF(H26>2.5,AT26,IF(H26<2.5,"",""))) -> Гурткова робота. | P26: =IF(H26>1.5,"",IF(H26>0.5,AT26,"")) | Q26: =IF(H26<0.5,AT26,"") | S26: =IF(M26="","","К12 ") | T26: =IF(N26="","","К12 ") -> К12 | U26: =IF(O26="","","К12 ") | V26: =IF(P26="","","К12 ") | W26: =IF(Q26="","","К12 ") | Y26: =CONCATENATE(S34,S35,S36,S37,S38) -> К22 | Z26: =CONCATENATE(T34,T35,T36,T37,T38) -> К21 К23 | AA26: =CONCATENATE(U34,U35,U36,U37,U38) | AB26: =CONCATENATE(V34,V35,V36,V37,V38) -> К24 | AC26: =CONCATENATE(W34,W35,W36,W37,W38) | AT26: Гурткова робота.
A27: 13 | B27: =Бланк!B21 -> Організація індивідуальної роботи | D27: =Бланк!C21 -> 0.1 | E27: 2 | F27: 4 | G27: 4 | H27: =IF(E27="","",AVERAGE(E27:G27)) -> 3.3333333 | I27: =IF(E27="","",H27*D27/4) -> 0.083333333 | L27: 13 | M27: =IF(H27>3.5,AT27,"") | N27: =IF(H27>3.5,"",IF(H27>2.5,AT27,IF(H27<2.5,"",""))) -> Індивідуальна робота. | P27: =IF(H27>1.5,"",IF(H27>0.5,AT27,"")) | Q27: =IF(H27<0.5,AT27,"") | S27: =IF(M27="","","К13 ") | T27: =IF(N27="","","К13 ") -> К13 | U27: =IF(O27="","","К13 ") | V27: =IF(P27="","","К13 ") | W27: =IF(Q27="","","К13 ") | Y27: =CONCATENATE(S39,S40) | Z27: =CONCATENATE(T39,T40) -> К25 | AA27: =CONCATENATE(U39,U40) | AB27: =CONCATENATE(V39,V40) | AC27: =CONCATENATE(W39,W40) | AT27: Індивідуальна робота.
A28: 14 | B28: =Бланк!B22 -> Організація дистанційної та змішаної форм освіти засобами | D28: =Бланк!C22 -> 0.05 | E28: 2 | F28: 4 | G28: 3 | H28: =IF(E28="","",AVERAGE(E28:G28)) -> 3 | I28: =IF(E28="","",H28*D28/4) -> 0.0375 | L28: 14 | M28: =IF(H28>3.5,AT28,"") | N28: =IF(H28>3.5,"",IF(H28>2.5,AT28,IF(H28<2.5,"",""))) -> Дистанційна освіта. | P28: =IF(H28>1.5,"",IF(H28>0.5,AT28,"")) | Q28: =IF(H28<0.5,AT28,"") | S28: =IF(M28="","","К14 ") | T28: =IF(N28="","","К14 ") -> К14 | U28: =IF(O28="","","К14 ") | V28: =IF(P28="","","К14 ") | W28: =IF(Q28="","","К14 ") | AT28: Дистанційна освіта.
A29: 15 | B29: =Бланк!B23 -> Організація інклюзивної освіти (за наявності таких дітей у закладі) | D29: =Бланк!C23 -> 0.04 | E29: 2 | F29: 3 | G29: 3 | H29: =IF(E29="","",AVERAGE(E29:G29)) -> 2.6666667 | I29: =IF(E29="","",H29*D29/4) -> 0.026666667 | L29: 15 | M29: =IF(H29>3.5,AT29,"") | N29: =IF(H29>3.5,"",IF(H29>2.5,AT29,IF(H29<2.5,"",""))) -> Інклюзія. | P29: =IF(H29>1.5,"",IF(H29>0.5,AT29,"")) | Q29: =IF(H29<0.5,AT29,"") | S29: =IF(M29="","","К15 ") | T29: =IF(N29="","","К15 ") -> К15 | U29: =IF(O29="","","К15 ") | V29: =IF(P29="","","К15 ") | W29: =IF(Q29="","","К15 ") | AT29: Інклюзія.
A30: 16 | B30: =Бланк!B24 -> Відповідність освітньої програми меті, завданням діяльності закладу | D30: =Бланк!C24 -> 0.1 | E30: 4 | F30: 4 | G30: 3 | H30: =IF(E30="","",AVERAGE(E30:G30)) -> 3.6666667 | I30: =IF(E30="","",H30*D30/4) -> 0.091666667 | L30: 16 | M30: =IF(H30>3.5,AT30,"") -> Освітня програма. | N30: =IF(H30>3.5,"",IF(H30>2.5,AT30,IF(H30<2.5,"",""))) | P30: =IF(H30>1.5,"",IF(H30>0.5,AT30,"")) | Q30: =IF(H30<0.5,AT30,"") | S30: =IF(M30="","","К16 ") -> К16 | T30: =IF(N30="","","К16 ") | U30: =IF(O30="","","К16 ") | V30: =IF(P30="","","К16 ") | W30: =IF(Q30="","","К16 ") | AT30: Освітня програма.
A31: 17 | B31: =Бланк!B25 -> Наявність необхідних навчальних програм, їх відповідність навчальному плану | D31: =Бланк!C25 -> 0.1 | E31: 4 | F31: 4 | G31: 4 | H31: =IF(E31="","",AVERAGE(E31:G31)) -> 4 | I31: =IF(E31="","",H31*D31/4) -> 0.1 | L31: 17 | M31: =IF(H31>3.5,AT31,"") -> Навчальні програми. | N31: =IF(H31>3.5,"",IF(H31>2.5,AT31,IF(H31<2.5,"",""))) | P31: =IF(H31>1.5,"",IF(H31>0.5,AT31,"")) | Q31: =IF(H31<0.5,AT31,"") | S31: =IF(M31="","","К17 ") -> К17 | T31: =IF(N31="","","К17 ") | U31: =IF(O31="","","К17 ") | V31: =IF(P31="","","К17 ") | W31: =IF(Q31="","","К17 ") | AT31: Навчальні програми.
A32: 18 | B32: =Бланк!B26 -> Спрямованість освітнього процесу на підготовку до майбутньої професії (профілізація) | D32: =Бланк!C26 -> 0.08 | E32: 3 | F32: 4 | G32: 3 | H32: =IF(E32="","",AVERAGE(E32:G32)) -> 3.3333333 | I32: =IF(E32="","",H32*D32/4) -> 0.066666667 | L32: 18 | M32: =IF(H32>3.5,AT32,"") | N32: =IF(H32>3.5,"",IF(H32>2.5,AT32,IF(H32<2.5,"",""))) -> Профілізація. | P32: =IF(H32>1.5,"",IF(H32>0.5,AT32,"")) | Q32: =IF(H32<0.5,AT32,"") | S32: =IF(M32="","","К18 ") | T32: =IF(N32="","","К18 ") -> К18 | U32: =IF(O32="","","К18 ") | V32: =IF(P32="","","К18 ") | W32: =IF(Q32="","","К18 ") | AT32: Профілізація.
A33: 19 | B33: =Бланк!B27 -> Використання інформаційних цифрових технологій в освітньому процесі | D33: =Бланк!C27 -> 0.04 | E33: 3 | F33: 4 | G33: 3 | H33: =IF(E33="","",AVERAGE(E33:G33)) -> 3.3333333 | I33: =IF(E33="","",H33*D33/4) -> 0.033333333 | L33: 19 | M33: =IF(H33>3.5,AT33,"") | N33: =IF(H33>3.5,"",IF(H33>2.5,AT33,IF(H33<2.5,"",""))) -> Цифрові технології. | P33: =IF(H33>1.5,"",IF(H33>0.5,AT33,"")) | Q33: =IF(H33<0.5,AT33,"") | S33: =IF(M33="","","К19 ") | T33: =IF(N33="","","К19 ") -> К19 | U33: =IF(O33="","","К19 ") | V33: =IF(P33="","","К19 ") | W33: =IF(Q33="","","К19 ") | AT33: Цифрові технології.
A34: 20 | B34: =Бланк!B28 -> Організація дослідницько-експериментальної діяльності вихованців за напрямом позашкільної освіти | D34: =Бланк!C28 -> 0.04 | E34: 2 | F34: 0 | G34: 4 | H34: =IF(E34="","",AVERAGE(E34:G34)) -> 2 | I34: =IF(E34="","",H34*D34/4) -> 0.02 | L34: 20 | M34: =IF(H34>3.5,AT34,"") | N34: =IF(H34>3.5,"",IF(H34>2.5,AT34,IF(H34<2.5,"",""))) | P34: =IF(H34>1.5,"",IF(H34>0.5,AT34,"")) | Q34: =IF(H34<0.5,AT34,"") | S34: =IF(M34="","","К20 ") | T34: =IF(N34="","","К20 ") | U34: =IF(O34="","","К20 ") | V34: =IF(P34="","","К20 ") | W34: =IF(Q34="","","К20 ") | AT34: Заслужені, народні колективи.
A35: 21 | B35: =Бланк!B29 -> Організація участі дітей в організаційно-масових заходах різних рівнів | D35: =Бланк!C29 -> 0.06 | E35: 2 | F35: 4 | G35: 4 | H35: =IF(E35="","",AVERAGE(E35:G35)) -> 3.3333333 | I35: =IF(E35="","",H35*D35/4) -> 0.05 | L35: 21 | M35: =IF(H35>3.5,AT35,"") | N35: =IF(H35>3.5,"",IF(H35>2.5,AT35,IF(H35<2.5,"",""))) -> Організація участі в заходах. | P35: =IF(H35>1.5,"",IF(H35>0.5,AT35,"")) | Q35: =IF(H35<0.5,AT35,"") | S35: =IF(M35="","","К21 ") | T35: =IF(N35="","","К21 ") -> К21 | U35: =IF(O35="","","К21 ") | V35: =IF(P35="","","К21 ") | W35: =IF(Q35="","","К21 ") | AT35: Організація участі в заходах.
A36: 22 | B36: =Бланк!B30 -> Ефективність участі дітей в організаційно-масових заходах різних рівнів | D36: =Бланк!C30 -> 0.04 | E36: 3 | F36: 4 | G36: 4 | H36: =IF(E36="","",AVERAGE(E36:G36)) -> 3.6666667 | I36: =IF(E36="","",H36*D36/4) -> 0.036666667 | L36: 22 | M36: =IF(H36>3.5,AT36,"") -> Результативність участі в заходах. | N36: =IF(H36>3.5,"",IF(H36>2.5,AT36,IF(H36<2.5,"",""))) | P36: =IF(H36>1.5,"",IF(H36>0.5,AT36,"")) | Q36: =IF(H36<0.5,AT36,"") | S36: =IF(M36="","","К22 ") -> К22 | T36: =IF(N36="","","К22 ") | U36: =IF(O36="","","К22 ") | V36: =IF(P36="","","К22 ") | W36: =IF(Q36="","","К22 ") | AT36: Результативність участі в заходах.
A37: 23 | B37: =Бланк!B31 -> Організація культурно-дозвіллєвої діяльності вихованців | D37: =Бланк!C31 -> 0.04 | E37: 3 | F37: 3 | G37: 3 | H37: =IF(E37="","",AVERAGE(E37:G37)) -> 3 | I37: =IF(E37="","",H37*D37/4) -> 0.03 | L37: 23 | M37: =IF(H37>3.5,AT37,"") | N37: =IF(H37>3.5,"",IF(H37>2.5,AT37,IF(H37<2.5,"",""))) -> Культурне дозвілля. | P37: =IF(H37>1.5,"",IF(H37>0.5,AT37,"")) | Q37: =IF(H37<0.5,AT37,"") | S37: =IF(M37="","","К23 ") | T37: =IF(N37="","","К23 ") -> К23 | U37: =IF(O37="","","К23 ") | V37: =IF(P37="","","К23 ") | W37: =IF(Q37="","","К23 ") | AT37: Культурне дозвілля.
A38: 24 | B38: =Бланк!B32 -> Участь органів учнівського самоврядування в управлінні закладом | D38: =Бланк!C32 -> 0.05 | E38: 1 | F38: 0 | G38: 2 | H38: =IF(E38="","",AVERAGE(E38:G38)) -> 1 | I38: =IF(E38="","",H38*D38/4) -> 0.0125 | L38: 24 | M38: =IF(H38>3.5,AT38,"") | N38: =IF(H38>3.5,"",IF(H38>2.5,AT38,IF(H38<2.5,"",""))) | P38: =IF(H38>1.5,"",IF(H38>0.5,AT38,"")) -> Учнівське самоврядування. | Q38: =IF(H38<0.5,AT38,"") | S38: =IF(M38="","","К24 ") | T38: =IF(N38="","","К24 ") | U38: =IF(O38="","","К24 ") | V38: =IF(P38="","","К24 ") -> К24 | W38: =IF(Q38="","","К24 ") | AT38: Учнівське самоврядування.
A39: 25 | B39: =Бланк!B33 -> Створення сприятливого соціально-психологічного клімату | D39: =Бланк!C33 -> 0.03 | E39: 2 | F39: 4 | G39: 3 | H39: =IF(E39="","",AVERAGE(E39:G39)) -> 3 | I39: =IF(E39="","",H39*D39/4) -> 0.0225 | L39: 25 | M39: =IF(H39>3.5,AT39,"") | N39: =IF(H39>3.5,"",IF(H39>2.5,AT39,IF(H39<2.5,"",""))) -> Соціально-психологічний клімат. | P39: =IF(H39>1.5,"",IF(H39>0.5,AT39,"")) | Q39: =IF(H39<0.5,AT39,"") | S39: =IF(M39="","","К25 ") | T39: =IF(N39="","","К25 ") -> К25 | U39: =IF(O39="","","К25 ") | V39: =IF(P39="","","К25 ") | W39: =IF(Q39="","","К25 ") | AT39: Соціально-психологічний клімат.
A40: 26 | B40: =Бланк!B34 -> Міжнародна співпраця | D40: =Бланк!C34 -> 0.02 | E40: 1 | F40: 3 | G40: 3 | H40: =IF(E40="","",AVERAGE(E40:G40)) -> 2.3333333 | I40: =IF(E40="","",H40*D40/4) -> 0.011666667 | L40: 26 | M40: =IF(H40>3.5,AT40,"") | N40: =IF(H40>3.5,"",IF(H40>2.5,AT40,IF(H40<2.5,"",""))) | P40: =IF(H40>1.5,"",IF(H40>0.5,AT40,"")) | Q40: =IF(H40<0.5,AT40,"") | S40: =IF(M40="","","К26 ") | T40: =IF(N40="","","К26 ") | U40: =IF(O40="","","К26 ") | V40: =IF(P40="","","К26 ") | W40: =IF(Q40="","","К26 ") | AT40: Міжнародна співпраця.
A41: ІІІ. | B41: =Бланк!B35 -> Робота з педагогічними кадрами | D41: 0.14 | I41: =L41*D41 -> 0.10511667 | K41: =AVERAGE(H42:H51) -> 3 | L41: =SUM(I42:I51) -> 0.75083333
A42: 27 | B42: =Бланк!B36 -> Забезпеченість закладу педагогічними працівниками | D42: =Бланк!C36 -> 0.13 | E42: 2 | F42: 3 | G42: 4 | H42: =IF(E42="","",AVERAGE(E42:G42)) -> 3 | I42: =IF(E42="","",H42*D42/4) -> 0.0975 | L42: 27 | M42: =IF(H42>3.5,AT42,"") | N42: =IF(H42>3.5,"",IF(H42>2.5,AT42,IF(H42<2.5,"",""))) -> Забезпеченість кадрами. | P42: =IF(H42>1.5,"",IF(H42>0.5,AT42,"")) | Q42: =IF(H42<0.5,AT42,"") | S42: =IF(M42="","","К27 ") | T42: =IF(N42="","","К27 ") -> К27 | U42: =IF(O42="","","К27 ") | V42: =IF(P42="","","К27 ") | W42: =IF(Q42="","","К27 ") | Y42: =CONCATENATE(S42,S43,S44,S45,S46) | Z42: =CONCATENATE(T42,T43,T44,T45,T46) -> К27 К28 К29 К30 К31 | AA42: =CONCATENATE(U42,U43,U44,U45,U46) | AB42: =CONCATENATE(V42,V43,V44,V45,V46) | AC42: =CONCATENATE(W42,W43,W44,W45,W46) | AD42: =CONCATENATE(Y42,Y43) | AE42: =CONCATENATE(Z42,Z43) -> К27 К28 К29 К30 К31 К32 К33 К35 К36 | AF42: =CONCATENATE(AA42,AA43) | AG42: =CONCATENATE(AB42,AB43) | AH42: =CONCATENATE(AC42,AC43) | AI42: III | AT42: Забезпеченість кадрами.
...

Sheet Таблиця
B1: SWOT-аналіз
B2: діяльності закладу позашкільної освіти
B3: =IF(Бланк!A3="","",Бланк!A3) -> назва ЗПО
B5: Сильні сторони | D5: Можливості
B6: =IF(Програма!BH14="","",Програма!BH14) -> Статут. Органи управління. Освітня програма. Навчальні програми. Результативність участі в заходах. Режим роботи. Техніка безпеки. Санітарія. Репутація ЗПО. | D6: =IF(Програма!BI14="","",Програма!BI14) -> План роботи. Структура ЗПО. Взаємодія підрозділів. Загальні збори. Педрада. Інформаційне забезпечення. Роботв зі стейкхолдерами. Комплектування гуртків. Динаміка контингенту. Гурткова робота. Індивідуальна робота. Дистанційна освіта. Інклюзія. Профілізація. Цифрові технології. Організація участі в заходах. Культурне дозвілля. Соціально-психологічний клімат. Забезпеченість кадрами. Розподіл педкадрів. Стабільність педскладу. Робота з молодими спеціалістами. Методичний супровід. Мотиваційне середовище. Готовність до інновацій. Взаємодія з дітьми. Безперервна освіта педкадрів. Необхідні приміщення. Відповідність приміщень. Використання приміщень. Взаємодія з закладами освіти. Співпраця з ГО, БФ. Інфраструктурні умови. Інформаційна відкритість. Вебсайт. Естетичність ЗПО.
B8: Слабкі сторони | D8: Загрози
B9: =IF(Програма!BK14="","",Програма!BK14) -> Учнівське самоврядування. Взаємодія з соцслужбами. Робота з дітьми соцкатегорій. | D9: =IF(Програма!BL14="","",Програма!BL14)

Sheet Портрет
A1: Графічний портрет | O1: Система управління | P1: =Q1/4 -> 0.83333333 | Q1: =Програма!K14 -> 3.3333333
A2: конкурентних переваг | O2: Організація освітнього процесу | P2: =Q2/4 -> 0.75980392 | Q2: =Програма!K23 -> 3.0392157
A3: закладу позашкільної освіти | L3: ФФФФ ФФФФ ФФФФ | O3: Робота з педкадрами | P3: =Q3/4 -> 0.75 | Q3: =Програма!K41 -> 3
A4: =IF(Бланк!A3="","",Бланк!A3) -> назва ЗПО | O4: Матеріально-технічна база | P4: =Q4/4 -> 0.63888889 | Q4: =Програма!K52 -> 2.5555556
O5: «Заклад – сім’я – соціальне середовище» | P5: =Q5/4 -> 0.48333333 | Q5: =Програма!K59 -> 1.9333333
O6: Безпечне освітнє середовище | P6: =Q6/4 -> 0.91666667 | Q6: =Програма!K65 -> 3.6666667
O7: Піар-менеджмент | P7: =Q7/4 -> 0.81666667 | Q7: =Програма!K69 -> 3.2666667
